BEGIN:VCALENDAR
VERSION:2.0
PRODID:-//IZES - ECPv6.15.20//NONSGML v1.0//EN
CALSCALE:GREGORIAN
METHOD:PUBLISH
X-ORIGINAL-URL:https://izes.eu
X-WR-CALDESC:Veranstaltungen für IZES
REFRESH-INTERVAL;VALUE=DURATION:PT1H
X-Robots-Tag:noindex
X-PUBLISHED-TTL:PT1H
BEGIN:VTIMEZONE
TZID:Europe/Berlin
BEGIN:DAYLIGHT
TZOFFSETFROM:+0100
TZOFFSETTO:+0200
TZNAME:CEST
DTSTART:20240331T010000
END:DAYLIGHT
BEGIN:STANDARD
TZOFFSETFROM:+0200
TZOFFSETTO:+0100
TZNAME:CET
DTSTART:20241027T010000
END:STANDARD
BEGIN:DAYLIGHT
TZOFFSETFROM:+0100
TZOFFSETTO:+0200
TZNAME:CEST
DTSTART:20250330T010000
END:DAYLIGHT
BEGIN:STANDARD
TZOFFSETFROM:+0200
TZOFFSETTO:+0100
TZNAME:CET
DTSTART:20251026T010000
END:STANDARD
BEGIN:DAYLIGHT
TZOFFSETFROM:+0100
TZOFFSETTO:+0200
TZNAME:CEST
DTSTART:20260329T010000
END:DAYLIGHT
BEGIN:STANDARD
TZOFFSETFROM:+0200
TZOFFSETTO:+0100
TZNAME:CET
DTSTART:20261025T010000
END:STANDARD
END:VTIMEZONE
BEGIN:VEVENT
DTSTART;VALUE=DATE:20250211
DTEND;VALUE=DATE:20250213
DTSTAMP:20260419T174706
CREATED:20250123T091030Z
LAST-MODIFIED:20250210T095554Z
UID:5001-1739232000-1739404799@izes.eu
SUMMARY:Internationall Conference of the German-Indonesiean EnaTex
DESCRIPTION:The forum for Indonesian and German policymakers\, textile industry\, and association decision-makers to discuss the implications of the project’s findings within the sustainability transition of the Indonesian textile sector. \n11. February 202 \nEnaTex Project Rollout – Unlocking the Potential for Policy and Industry Implementation \n12. February 2025 \nEnaTex Project Rollout – Bridging Academia and Practice; Advanced Research OUtcomes and Scientific Follow Up in Academia \nLocation \nAtma Jaya Catholic University of Indonesia\, Semanggi Campus \nPlease Register here: EnaTex-Final Conference \n  \nWe are pleased to inform you that the Final Conference will be recorded and streamed live on YouTube. You can access the live broadcast via the following link: \nhttps://www.youtube.com/live/xmohzlJOkJQ?si=64XmhOXmStTKn-7h \n  \nAdditionally\, we have received the Zoom link for direct participation/ user rights without interaction possible:** \n*Feb 11\, 2025 09.00 WIB* Jakarta Join  \nZoom Meeting https://atmajaya-ac-id.zoom.us/j/94470930080 \nMeeting ID: 944 7093 0080 Passcode: 184583 \n*Feb 12\, 2025 09:00 WIB* Jakarta \nJoin Zoom Meeting https://atmajaya-ac-id.zoom.us/j/97192680622?pwd=8xVKVEnbdYqbBOkXXa1qDGcibKtfXH.1 \nMeeting ID: 971 9268 0622 Passcode: 291824 \n 
URL:https://izes.eu/events/internationall-conference-of-the-german-indonesiean-enatex/
LOCATION:Atma Jaya Catholic University of Indonesia\, Semanggi Campus\, Indonesia
ATTACH;FMTTYPE=image/png:https://izes.eu/wp-content/uploads/enatex-1.png
END:VEVENT
BEGIN:VEVENT
DTSTART;TZID=Europe/Berlin:20250211T133000
DTEND;TZID=Europe/Berlin:20250211T180000
DTSTAMP:20260419T174706
CREATED:20250128T132634Z
LAST-MODIFIED:20250128T132854Z
UID:5012-1739280600-1739296800@izes.eu
SUMMARY:Kick-Off-Veranstaltung „CIRCULAR BUILDING"
DESCRIPTION:Einladung \nMit dem Projekt „CIRCULAR BUILDING“ startet die Dienstleistungsgesellschaft (DLG) der saarländischen Bauwirtschaft mbH und der Verband der saarländischen Baustoffindustrie (VBS) den Aufbau eines Innovationsclusters „Zirkuläres Bauen“. \nWie können wir den Herausforderungen des Strukturwandels\, der Energiewende und den Anpassungen an den Klimawandel sowie an die sozialen und demografischen Veränderungen mit innovativen und nachhaltigen Lösungen begegnen? \nWelche Baumaterialien stehen uns in Zukunft in welchen Mengen zur Verfügung und wie setzen wir diese am effizientesten in der Bauwirtschaft ein? \nNach einer kurzen prägnanten Präsentation in zwei Impulsvorträgen\, möchten wir Ihre Perspektive zum zirkulären Bauen kennenlernen. Welche Herausforderungen und Hemmnisse bestehen in der Praxis und auf welche Lösungen können wir hinsteuern? \nWir freuen uns auf Ihre Teilnahme und Ihren individuellen Beitrag an der Kick-Off-Veranstaltung „CIRCULAR BUILDING“ am 11. Februar 2025 auf dem Gelände der Alois Omlor GmbH. \nWeitere Information und Informationen: Kick-off Circular Building \n  \n 
URL:https://izes.eu/events/kick-off-veranstaltung-circular-building/
LOCATION:Alois Omlor GmbH Am Zunderbaum 8 66424 Homburg\, Am Zunderbaum 8\, Homburg\, 66424\, Germany
ATTACH;FMTTYPE=image/png:https://izes.eu/wp-content/uploads/Circular-Building-Kreis.png
END:VEVENT
BEGIN:VEVENT
DTSTART;TZID=Europe/Berlin:20250213T090000
DTEND;TZID=Europe/Berlin:20250213T120000
DTSTAMP:20260419T174706
CREATED:20241218T103823Z
LAST-MODIFIED:20250129T114602Z
UID:4991-1739437200-1739448000@izes.eu
SUMMARY:Fachtagung Forschungsprojekt EE-Gemeinschaften
DESCRIPTION:Fachtagung Forschungsprojekt EE-Gemeinschaften \n– Rechtliche\, regulatorische und technische Entwicklungen sowie Umsetzungsbeispiele im Bereich des Energy Sharing \nINFORMATIONEN ZUR VERANSTALTUNG \nWann: Donnerstag\, 13. Februar 2025\, 9 bis 12 Uhr \nWo: Stadtwerke Saarbrücken\, Verwaltungsgebäude 2 EG\, Heuduckstr. 36\, 66117 Saarbrücken. Es besteht die Möglichkeit einer online-Teilnahme. \nZielgruppe: Netzbetreiber\, Stadtwerke\, Vertreter*innen aus der Bürgerenergie \nIn unserem Forschungsprojekt untersuchen wir gemeinsam mit unseren Partnern\, wie eine sog. Erneuerbare-Energie-Gemeinschaft (EE-Gemeinschaft) ganz konkret in die Praxis umgesetzt werden kann. Hierzu haben wir den Stadtteil Fraulautern in Saarlouis ausgewählt\, wo wir interessierte Menschen zusammenbringen\, damit sie sich in Zukunft mit Strom aus ihren eigenen Erzeugungsanlagen versorgen können. \nDas kann für Stadtwerke und Bürgerenergieprojekte ein interessantes neues Angebot an ihre Kundschaft und Mitglieder sein. Für letztere besteht so die Möglichkeit\, lokal erzeugten Strom aus erneuerbaren Energien zu stabilen Preisen innerhalb der EE-Gemeinschaft zu teilen. \nWir möchten Ihnen auf unserer Tagung einige Beispiele aus der Praxis von Stadtwerken vorstellen. Dabei sollen Schwierigkeiten\, aber auch Lösungsansätze bei der Umsetzung von Projekten zum Energieteilen und hiermit verbundene Chancen zur Sprache kommen. \nProgramm\n9:00 h Begrüßung durch \n\n  Frank Ackermann\, Vorstand Technik der Stadtwerke Saarbrücken Netz AG \n  Barbara Dröschel\, IZES gGbmH\n\n9:15 h Kurzvorstellung des Forschungsprojekts ModellEEGe\, \n\n  Barbara Dröschel\, IZES gGmbH\n\n9:35 h Energy Sharing in Deutschland – mit ein bisschen gutem Willen schon heute \n\n Rainer Härtl\, Stadtwerke Wunsiedel und Ko-Referenten\n\n10:00 h Einführung und Umsetzung von EE-Gemeinschaften in Österreich\, \n\n  Sebastian Freier\, Vorstand Elektrizitätswerke Reutte (EWR)\, AT  \n\n10:20 h EE-Gemeinschaften in Luxemburg\, \n\n  Gilbert Theato\, Klima Agence Luxemburg  \n\n10:40 h Rechtliche Rahmenbedingungen für die gemeinschaftliche Energieversorgung\, \n\n  Felicitas Strauch\, von Bredow Valentin Herz  \n\n11:00 h Diskussion\, Moderation Barbara Dröschel \n12:00h Ende der Veranstaltung und Mittagsimbiss \n\n\n\n\nANMELDUNG\n\n\n\n\nEine Online-Anmeldung zur Veranstaltung ist erforderlich.\nAlternativ per Mail an veranstaltung@argesolar-saar.de. \nWeitere Informationen zum Forschungsprojekt Modell EEGe finden Sie unter: https://ee-gemeinschaften.de/ \n\n\n\n\n\n\n\n\nKONTAKT\nE-Mail: eege@argesolar-saar.de \n\n\n\n\nBitte beachte auch unsere Datenschutzhinweise unter https://izes.eu/datenschutz/
URL:https://izes.eu/events/fachtagung-forschungsprojekt-ee-gemeinschaften/
LOCATION:Stadtwerke Saarbrücken\, Heuduckstr. 36\, Saarbrücken\, 66117
ATTACH;FMTTYPE=image/jpeg:https://izes.eu/wp-content/uploads/Logo-ModellEEGe-RGB-scaled.jpg
END:VEVENT
END:VCALENDAR