BEGIN:VCALENDAR
VERSION:2.0
PRODID:-//IZES - ECPv6.15.20//NONSGML v1.0//EN
CALSCALE:GREGORIAN
METHOD:PUBLISH
X-ORIGINAL-URL:https://izes.eu
X-WR-CALDESC:Veranstaltungen für IZES
REFRESH-INTERVAL;VALUE=DURATION:PT1H
X-Robots-Tag:noindex
X-PUBLISHED-TTL:PT1H
BEGIN:VTIMEZONE
TZID:Europe/Berlin
BEGIN:DAYLIGHT
TZOFFSETFROM:+0100
TZOFFSETTO:+0200
TZNAME:CEST
DTSTART:20240331T010000
END:DAYLIGHT
BEGIN:STANDARD
TZOFFSETFROM:+0200
TZOFFSETTO:+0100
TZNAME:CET
DTSTART:20241027T010000
END:STANDARD
BEGIN:DAYLIGHT
TZOFFSETFROM:+0100
TZOFFSETTO:+0200
TZNAME:CEST
DTSTART:20250330T010000
END:DAYLIGHT
BEGIN:STANDARD
TZOFFSETFROM:+0200
TZOFFSETTO:+0100
TZNAME:CET
DTSTART:20251026T010000
END:STANDARD
BEGIN:DAYLIGHT
TZOFFSETFROM:+0100
TZOFFSETTO:+0200
TZNAME:CEST
DTSTART:20260329T010000
END:DAYLIGHT
BEGIN:STANDARD
TZOFFSETFROM:+0200
TZOFFSETTO:+0100
TZNAME:CET
DTSTART:20261025T010000
END:STANDARD
END:VTIMEZONE
BEGIN:VEVENT
DTSTART;TZID=Europe/Berlin:20250403T180000
DTEND;TZID=Europe/Berlin:20250403T200000
DTSTAMP:20260419T142058
CREATED:20250326T110341Z
LAST-MODIFIED:20250327T140045Z
UID:6816-1743703200-1743710400@izes.eu
SUMMARY:Workshop für KMU: „Zukunftsenergie Photovoltaik & Energiegemeinschaften für regionale Unternehmen.“
DESCRIPTION:. \n„Zukunftsenergie Photovoltaik & Energiegemeinschaften für regionale Unternehmen“\nDie Veranstaltung richtet sich an Unternehmen\, Gewerbetreibende und öffentliche Einrichtungen aus Fraulautern\, Saarlouis und dem Landkreis – mit und ohne bereits installierte PV-Anlagen. \nErfahren Sie\, welche Möglichkeiten das Modell der Erneuerbaren Energie-Gemeinschaften (EE-Gemeinschaften) in Zukunft bieten kann. Und welche Vorteile Sie schon jetzt durch die Nutzung von Photovoltaik haben – sei es zur Eigenstromversorgung oder bei der Einspeisung ins Stromnetz. Perspektivisch wird es auch möglich sein\, Strom aus privaten erneuerbaren Energie-Anlagen innerhalb einer sog. Erneuerbaren-Energie-Gemeinschaft über das öffentliche Stromnetz zu teilen. \nDer Vorteil dieses Modells ist\, dass der unter den Gemeinschaftsmitgliedern ausgetauschte Strom zu stabilen Preisen vergütet wird\, die sie selbst festlegen. Und die sind meist höher als die aktuellen Einspeisevergütungen. Das zumindest zeigen Erfahrungen in Österreich\, wo dieses Modell bereits existiert. \nEin weiterer Vorteil ist\, dass Strom auch nach Auslaufen der gesetzlichen Einspeisevergütung innerhalb der Gemeinschaft zu fairen Preisen getauscht werden kann. Damit können ausgeförderte Anlagen noch viele weitere Jahre umweltfreundlichen Strom liefern und für die Gemeinschaft einen hohen Eigenversorgungsgrad sichern. \nMelden Sie sich jetzt über unsere Homepage an:  https://ee-gemeinschaften.de/workshop-zukunftsenergie-photovoltaik-energiegemeinschaften-fuer-regionale-unternehmen/\nDie genaue Agenda wird dort in Kürze veröffentlicht. \nWir freuen uns auf Sie! \nDie Veranstaltung wird von IZES\, den Stadtwerken Saarlouis und der Arge Solar organisiert und vom Bundesministerium für Wirtschaft und Klimaschutz (BMWK) gefördert. \n               
URL:https://izes.eu/events/workshop-fuer-kmu-zukunftsenergie-photovoltaik-energiegemeinschaften-fuer-regionale-unternehmen/
LOCATION:Haus Europa (ehemals Hotel Europa)\, Rodener Straße 56\, Saarlouis\, Saarland\, 66359\, Germany
ATTACH;FMTTYPE=image/jpeg:https://izes.eu/wp-content/uploads/EEGg-Veranstaltung-4.jpg
END:VEVENT
BEGIN:VEVENT
DTSTART;TZID=Europe/Berlin:20250429T090000
DTEND;TZID=Europe/Berlin:20250429T143000
DTSTAMP:20260419T142058
CREATED:20250402T085754Z
LAST-MODIFIED:20250403T071354Z
UID:6868-1745917200-1745937000@izes.eu
SUMMARY:Hackathon 5×5: "Zukunft des Weiterbauens und Sanierens"
DESCRIPTION:Unter dem Motto „Zukunft des Weiterbauens und Sanierens“ lädt das Forschungsinstitut für ZukunftsEnergie- und Stoffstromsysteme (IZES) zusammen mit dem K8 Institut für strategische Ästhetik und der Dienstleistungsgesellschaft des AGV Bau Saar zu einem praxisorientierten #Hackathon ein. \nDie Veranstaltung richtet sich an alle\, die nachhaltiges Bauen aktiv\, Kreativ\, digital und nachhaltig mitgestalten möchten. In interdisziplinären Teams werden die Teilnehmenden innerhalb von 5 Stunden kreative und nachhaltige Lösungen für 5 reale Herausforderungen im Bauwesen entwickeln. \n📅 Los geht’s am:\n🔹 9. April mit einem Online-Onboarding\, bei dem die Challenges und Challengegeber:innen vorgestellt werden.\n🔹 Am 29. April 2025 findet dann vor Ort im CoHub\, Am Neumarkt 15\, 66117 Saarbrücken\, der eigentliche Hackathon statt. \n💡 Fokus des Hackathons:\n✔️ 5×5 = 5 Challenges in 5 Stunden\n✔️ Digitale Tools zur Unterstützung nachhaltiger Bauweisen\n✔️ Grenzüberschreitende Kooperationen und interdisziplinäre Zusammenarbeit\n✔️ Praxisorientierte Lösungen\, begleitet von erfahrenen Coaches und Expert:innen \nDie Veranstaltung findet im Rahmen der Interreg-geförderten Projekte #W.A.V.E. und #Twin4Resilience statt. \n  \nInteressierte können sich unter folgendem Link für den Hackathon und das Onboarding anmelden: https://www.k8.design/archive/5-mal-5 \n  \nMehr infos unter: \nhttps://www.holzbaucluster-saarland.de/ \nhttps://www.k8.design/archive/t4r
URL:https://izes.eu/events/hackathon-5x5-zukunft-des-weiterbauens-und-sanierens/
LOCATION:CoHub\, Am Neumarkt 15\, 66117 Saarbrücken\, Am Neumarkt 15\, Saarbrücken\, Saarland\, 66117\, Germany
ATTACH;FMTTYPE=image/jpeg:https://izes.eu/wp-content/uploads/Hackathon_Teaser_8L.jpg
END:VEVENT
END:VCALENDAR